BEGIN:VCALENDAR
VERSION:2.0
PRODID:-//wp-events-plugin.com//7.2.3.1//EN
TZID:Europe/Paris
X-WR-TIMEZONE:Europe/Paris
BEGIN:VEVENT
UID:222@snudifo47.net
DTSTART;TZID=Europe/Paris:20260602T000000
DTEND;TZID=Europe/Paris:20260602T000000
DTSTAMP:20260306T140126Z
URL:https://snudifo47.net/new/events/stage-syndical-professeurs-des-ecoles
 -connaitre-ses-droits-niveau-2/
SUMMARY:Stage syndical "Professeurs des écoles - connaître ses droits"
DESCRIPTION:Stage à destination des enseignants ayant participé au stage 
 "connaître ses droits" le 20/01/2026
END:VEVENT
BEGIN:VTIMEZONE
TZID:Europe/Paris
X-LIC-LOCATION:Europe/Paris
BEGIN:DAYLIGHT
DTSTART:20260329T030000
TZOFFSETFROM:+0100
TZOFFSETTO:+0200
TZNAME:CEST
END:DAYLIGHT
END:VTIMEZONE
END:VCALENDAR