BEGIN:VCALENDAR
VERSION:2.0
PRODID:-//wp-events-plugin.com//7.2.3.1//EN
TZID:Europe/Paris
X-WR-TIMEZONE:Europe/Paris
BEGIN:VEVENT
UID:218@snudifo47.net
DTSTART;TZID=Europe/Paris:20260430T000000
DTEND;TZID=Europe/Paris:20260430T000000
DTSTAMP:20260306T140346Z
URL:https://snudifo47.net/new/events/stage-aesh-connaitre-ses-droits-2/
SUMMARY:Stage "AESH : connaître ses droits"\, Villeneuve-sur-Lot\, lycée 
 Lot-et-Bastides
DESCRIPTION:Lycée Lot-et-Bastides\, Villeneuve-sur-Lot
END:VEVENT
BEGIN:VTIMEZONE
TZID:Europe/Paris
X-LIC-LOCATION:Europe/Paris
BEGIN:DAYLIGHT
DTSTART:20260329T030000
TZOFFSETFROM:+0100
TZOFFSETTO:+0200
TZNAME:CEST
END:DAYLIGHT
END:VTIMEZONE
END:VCALENDAR