BEGIN:VCALENDAR
VERSION:2.0
PRODID:-//wp-events-plugin.com//7.2.3.1//EN
TZID:Europe/Paris
X-WR-TIMEZONE:Europe/Paris
BEGIN:VEVENT
UID:225@snudifo47.net
DTSTART;TZID=Europe/Paris:20260324T170000
DTEND;TZID=Europe/Paris:20260324T170000
DTSTAMP:20260306T140208Z
URL:https://snudifo47.net/new/events/ris-a-nerac-ecole-curie-a-17h/
SUMMARY:RIS à Nérac\, école Curie à 17h
DESCRIPTION:
END:VEVENT
BEGIN:VTIMEZONE
TZID:Europe/Paris
X-LIC-LOCATION:Europe/Paris
BEGIN:STANDARD
DTSTART:20251026T020000
TZOFFSETFROM:+0200
TZOFFSETTO:+0100
TZNAME:CET
END:STANDARD
END:VTIMEZONE
END:VCALENDAR